Package: EBarrays Version: 2.74.0 Command: /home/biocbuild/R/R/bin/R CMD check --install=check:EBarrays.install-out.txt --library=/home/biocbuild/R/R/site-library --no-vignettes --timings EBarrays_2.74.0.tar.gz StartedAt: 2025-11-11 09:22:55 -0000 (Tue, 11 Nov 2025) EndedAt: 2025-11-11 09:23:46 -0000 (Tue, 11 Nov 2025) EllapsedTime: 51.0 seconds RetCode: 0 Status: OK CheckDir: EBarrays.Rcheck Warnings: 0