Package: EBarrays Version: 2.74.0 Command: /home/biocbuild/R/R/bin/R CMD build --keep-empty-dirs --no-resave-data EBarrays StartedAt: 2025-11-11 01:22:41 -0000 (Tue, 11 Nov 2025) EndedAt: 2025-11-11 01:23:06 -0000 (Tue, 11 Nov 2025) EllapsedTime: 25.0 seconds RetCode: 0 Status: OK PackageFile: EBarrays_2.74.0.tar.gz PackageFileSize: 1.027 MiB