Package: EBarrays Version: 2.74.0 Command: /home/biocbuild/bbs-3.22-bioc/R/bin/R CMD INSTALL EBarrays StartedAt: 2025-11-11 15:16:46 -0500 (Tue, 11 Nov 2025) EndedAt: 2025-11-11 15:16:51 -0500 (Tue, 11 Nov 2025) EllapsedTime: 5.4 seconds RetCode: 0 Status: OK