Package: EBarrays Version: 2.74.0 Command: /home/biocbuild/bbs-3.22-bioc/R/bin/R CMD check --install=check:EBarrays.install-out.txt --library=/home/biocbuild/bbs-3.22-bioc/R/site-library --timings EBarrays_2.74.0.tar.gz StartedAt: 2025-11-11 23:23:03 -0500 (Tue, 11 Nov 2025) EndedAt: 2025-11-11 23:23:51 -0500 (Tue, 11 Nov 2025) EllapsedTime: 48.0 seconds RetCode: 0 Status: OK CheckDir: EBarrays.Rcheck Warnings: 0