Package: EBSeq Version: 2.8.0 Command: /home/biocbuild/bbs-3.22-bioc/R/bin/R CMD build --keep-empty-dirs --no-resave-data --md5 EBSeq StartedAt: 2025-11-11 17:31:51 -0500 (Tue, 11 Nov 2025) EndedAt: 2025-11-11 17:31:53 -0500 (Tue, 11 Nov 2025) EllapsedTime: 2.0 seconds RetCode: 0 Status: OK PackageFile: EBSeq_2.8.0.tar.gz PackageFileSize: 1.071 MiB