Package: EBSeq Version: 2.6.0 Command: /home/biocbuild/R/R/bin/R CMD INSTALL EBSeq StartedAt: 2025-10-13 20:21:37 -0000 (Mon, 13 Oct 2025) EndedAt: 2025-10-13 20:22:38 -0000 (Mon, 13 Oct 2025) EllapsedTime: 60.9 seconds RetCode: 0 Status: OK