Package: EBSeq Version: 2.6.0 Command: /home/biocbuild/R/R/bin/R CMD build --keep-empty-dirs --no-resave-data EBSeq StartedAt: 2025-10-14 00:32:03 -0000 (Tue, 14 Oct 2025) EndedAt: 2025-10-14 00:32:05 -0000 (Tue, 14 Oct 2025) EllapsedTime: 2.0 seconds RetCode: 0 Status: OK PackageFile: EBSeq_2.6.0.tar.gz PackageFileSize: 1.069 MiB