Package: EBSeq Version: 2.8.0 Command: /Library/Frameworks/R.framework/Resources/bin/R CMD INSTALL EBSeq StartedAt: 2025-11-06 15:05:59 -0500 (Thu, 06 Nov 2025) EndedAt: 2025-11-06 15:06:08 -0500 (Thu, 06 Nov 2025) EllapsedTime: 8.7 seconds RetCode: 0 Status: OK