Package: EBSeq Version: 2.8.0 Command: /Library/Frameworks/R.framework/Resources/bin/R CMD build --keep-empty-dirs --no-resave-data EBSeq StartedAt: 2025-11-06 16:17:55 -0500 (Thu, 06 Nov 2025) EndedAt: 2025-11-06 16:17:56 -0500 (Thu, 06 Nov 2025) EllapsedTime: 1.0 seconds RetCode: 0 Status: OK PackageFile: EBSeq_2.8.0.tar.gz PackageFileSize: 1.069 MiB