Package: EBSEA Version: 1.38.0 Command: /home/biocbuild/bbs-3.22-bioc/R/bin/R CMD INSTALL EBSEA StartedAt: 2025-11-14 15:33:19 -0500 (Fri, 14 Nov 2025) EndedAt: 2025-11-14 15:33:44 -0500 (Fri, 14 Nov 2025) EllapsedTime: 24.6 seconds RetCode: 0 Status: OK