Package: EBSEA Version: 1.38.0 Command: /home/biocbuild/bbs-3.22-bioc/R/bin/R CMD build --keep-empty-dirs --no-resave-data --md5 EBSEA StartedAt: 2025-11-14 17:31:03 -0500 (Fri, 14 Nov 2025) EndedAt: 2025-11-14 17:31:41 -0500 (Fri, 14 Nov 2025) EllapsedTime: 38.0 seconds RetCode: 0 Status: OK PackageFile: EBSEA_1.38.0.tar.gz PackageFileSize: 51.93 KiB