Package: EBImage Version: 4.52.0 Command: /home/biocbuild/bbs-3.22-bioc/R/bin/R CMD INSTALL EBImage StartedAt: 2025-11-17 17:13:57 -0500 (Mon, 17 Nov 2025) EndedAt: 2025-11-17 17:14:09 -0500 (Mon, 17 Nov 2025) EllapsedTime: 12.3 seconds RetCode: 0 Status: OK