Package: EBImage Version: 4.52.0 Command: /home/biocbuild/bbs-3.22-bioc/R/bin/R CMD build --keep-empty-dirs --no-resave-data --md5 EBImage StartedAt: 2025-11-17 20:49:09 -0500 (Mon, 17 Nov 2025) EndedAt: 2025-11-17 20:49:42 -0500 (Mon, 17 Nov 2025) EllapsedTime: 33.0 seconds RetCode: 0 Status: OK PackageFile: EBImage_4.52.0.tar.gz PackageFileSize: 5.213 MiB