Package: DynDoc Version: 1.86.0 Command: E:\biocbuild\bbs-3.21-bioc\R\bin\R.exe CMD INSTALL DynDoc StartedAt: 2025-08-14 15:19:03 -0400 (Thu, 14 Aug 2025) EndedAt: 2025-08-14 15:19:28 -0400 (Thu, 14 Aug 2025) EllapsedTime: 24.8 seconds RetCode: 0 Status: OK