Package: DynDoc Version: 1.86.0 Command: rm -rf DynDoc.buildbin-libdir && mkdir DynDoc.buildbin-libdir && E:\biocbuild\bbs-3.21-bioc\R\bin\R.exe CMD INSTALL --build --library=DynDoc.buildbin-libdir DynDoc_1.86.0.tar.gz StartedAt: 2025-08-15 09:12:57 -0400 (Fri, 15 Aug 2025) EndedAt: 2025-08-15 09:13:30 -0400 (Fri, 15 Aug 2025) EllapsedTime: 33.0 seconds RetCode: 0 Status: OK PackageFile: DynDoc_1.86.0.zip PackageFileSize: 219.6 KiB