Package: DynDoc Version: 1.88.0 Command: /home/biocbuild/bbs-3.22-bioc/R/bin/R CMD INSTALL DynDoc StartedAt: 2025-11-11 15:06:34 -0500 (Tue, 11 Nov 2025) EndedAt: 2025-11-11 15:06:38 -0500 (Tue, 11 Nov 2025) EllapsedTime: 3.9 seconds RetCode: 0 Status: OK