Package: DynDoc Version: 1.86.0 Command: /home/biocbuild/bbs-3.21-bioc/R/bin/R CMD build --keep-empty-dirs --no-resave-data DynDoc StartedAt: 2025-09-28 17:33:43 -0400 (Sun, 28 Sep 2025) EndedAt: 2025-09-28 17:33:44 -0400 (Sun, 28 Sep 2025) EllapsedTime: 1.0 seconds RetCode: 0 Status: OK PackageFile: DynDoc_1.86.0.tar.gz PackageFileSize: 10.97 KiB