Package: DynDoc Version: 1.86.0 Command: /Library/Frameworks/R.framework/Resources/bin/R CMD INSTALL DynDoc StartedAt: 2025-09-29 15:03:54 -0400 (Mon, 29 Sep 2025) EndedAt: 2025-09-29 15:04:03 -0400 (Mon, 29 Sep 2025) EllapsedTime: 8.5 seconds RetCode: 0 Status: OK