Package: DynDoc Version: 1.86.0 Command: /Library/Frameworks/R.framework/Resources/bin/R CMD build --keep-empty-dirs --no-resave-data DynDoc StartedAt: 2025-09-29 18:45:53 -0400 (Mon, 29 Sep 2025) EndedAt: 2025-09-29 18:45:55 -0400 (Mon, 29 Sep 2025) EllapsedTime: 2.2 seconds RetCode: 0 Status: OK PackageFile: DynDoc_1.86.0.tar.gz PackageFileSize: 10.97 KiB