Package: DuplexDiscovereR Version: 1.4.0 Command: /home/biocbuild/bbs-3.22-bioc/R/bin/R CMD check --install=check:DuplexDiscovereR.install-out.txt --library=/home/biocbuild/bbs-3.22-bioc/R/site-library --timings DuplexDiscovereR_1.4.0.tar.gz StartedAt: 2025-11-13 23:21:46 -0500 (Thu, 13 Nov 2025) EndedAt: 2025-11-13 23:29:55 -0500 (Thu, 13 Nov 2025) EllapsedTime: 489.5 seconds RetCode: 0 Status: OK CheckDir: DuplexDiscovereR.Rcheck Warnings: 0