Package: DuplexDiscovereR Version: 1.4.0 Command: /home/biocbuild/bbs-3.22-bioc/R/bin/R CMD build --keep-empty-dirs --no-resave-data --md5 DuplexDiscovereR StartedAt: 2025-11-11 17:30:13 -0500 (Tue, 11 Nov 2025) EndedAt: 2025-11-11 17:32:20 -0500 (Tue, 11 Nov 2025) EllapsedTime: 127.1 seconds RetCode: 0 Status: OK PackageFile: DuplexDiscovereR_1.4.0.tar.gz PackageFileSize: 1016 KiB