Package: DuplexDiscovereR Version: 1.2.0 Command: /home/biocbuild/bbs-3.21-bioc/R/bin/R CMD INSTALL DuplexDiscovereR StartedAt: 2025-10-15 15:45:23 -0400 (Wed, 15 Oct 2025) EndedAt: 2025-10-15 15:46:51 -0400 (Wed, 15 Oct 2025) EllapsedTime: 88.1 seconds RetCode: 0 Status: OK