Package: DuplexDiscovereR Version: 1.2.0 Command: /home/biocbuild/bbs-3.21-bioc/R/bin/R CMD build --keep-empty-dirs --no-resave-data DuplexDiscovereR StartedAt: 2025-10-15 17:18:52 -0400 (Wed, 15 Oct 2025) EndedAt: 2025-10-15 17:20:54 -0400 (Wed, 15 Oct 2025) EllapsedTime: 122.2 seconds RetCode: 0 Status: OK PackageFile: DuplexDiscovereR_1.2.0.tar.gz PackageFileSize: 1013 KiB