Package: DuplexDiscovereR Version: 1.2.0 Command: /home/biocbuild/R/R/bin/R CMD INSTALL DuplexDiscovereR StartedAt: 2025-10-02 21:02:16 -0000 (Thu, 02 Oct 2025) EndedAt: 2025-10-02 21:04:09 -0000 (Thu, 02 Oct 2025) EllapsedTime: 113.6 seconds RetCode: 0 Status: OK