Package: DuplexDiscovereR Version: 1.2.0 Command: /home/biocbuild/R/R/bin/R CMD build --keep-empty-dirs --no-resave-data DuplexDiscovereR StartedAt: 2025-10-03 00:34:58 -0000 (Fri, 03 Oct 2025) EndedAt: 2025-10-03 00:37:52 -0000 (Fri, 03 Oct 2025) EllapsedTime: 173.1 seconds RetCode: 0 Status: OK PackageFile: DuplexDiscovereR_1.2.0.tar.gz PackageFileSize: 1.027 MiB