Package: DuplexDiscovereR Version: 1.2.0 Command: /Library/Frameworks/R.framework/Resources/bin/R CMD build --keep-empty-dirs --no-resave-data DuplexDiscovereR StartedAt: 2025-10-13 23:37:54 -0400 (Mon, 13 Oct 2025) EndedAt: 2025-10-13 23:40:42 -0400 (Mon, 13 Oct 2025) EllapsedTime: 168.0 seconds RetCode: 0 Status: OK PackageFile: DuplexDiscovereR_1.2.0.tar.gz PackageFileSize: 995.1 KiB