Package: Dune Version: 1.22.0 Command: /home/biocbuild/bbs-3.22-bioc/R/bin/R CMD INSTALL Dune StartedAt: 2025-11-14 15:19:10 -0500 (Fri, 14 Nov 2025) EndedAt: 2025-11-14 15:19:35 -0500 (Fri, 14 Nov 2025) EllapsedTime: 25.4 seconds RetCode: 0 Status: OK