Package: DspikeIn Version: 1.0.0 Command: /Library/Frameworks/R.framework/Resources/bin/R CMD INSTALL DspikeIn StartedAt: 2025-11-03 15:44:22 -0500 (Mon, 03 Nov 2025) EndedAt: 2025-11-03 15:45:36 -0500 (Mon, 03 Nov 2025) EllapsedTime: 73.4 seconds RetCode: 0 Status: OK