Package: DspikeIn Version: 1.0.0 Command: rm -rf DspikeIn.buildbin-libdir && mkdir DspikeIn.buildbin-libdir && /Users/biocbuild/BBS/utils/build-universal.sh DspikeIn_1.0.0.tar.gz /Library/Frameworks/R.framework/Resources/bin/R DspikeIn.buildbin-libdir StartedAt: 2025-11-04 01:38:09 -0500 (Tue, 04 Nov 2025) EndedAt: 2025-11-04 01:39:29 -0500 (Tue, 04 Nov 2025) EllapsedTime: 79.5 seconds RetCode: 0 Status: OK PackageFile: DspikeIn_1.0.0.tgz PackageFileSize: 4.763 MiB