Package: DspikeIn Version: 1.0.0 Command: /Library/Frameworks/R.framework/Resources/bin/R CMD INSTALL DspikeIn StartedAt: 2025-11-05 15:49:52 -0500 (Wed, 05 Nov 2025) EndedAt: 2025-11-05 15:50:16 -0500 (Wed, 05 Nov 2025) EllapsedTime: 23.4 seconds RetCode: 0 Status: OK