Package: DspikeIn Version: 1.0.0 Command: rm -rf DspikeIn.buildbin-libdir && mkdir DspikeIn.buildbin-libdir && /Users/biocbuild/BBS/utils/build-universal.sh DspikeIn_1.0.0.tar.gz /Library/Frameworks/R.framework/Resources/bin/R DspikeIn.buildbin-libdir StartedAt: 2025-11-06 00:01:51 -0500 (Thu, 06 Nov 2025) EndedAt: 2025-11-06 00:02:17 -0500 (Thu, 06 Nov 2025) EllapsedTime: 25.6 seconds RetCode: 0 Status: OK PackageFile: DspikeIn_1.0.0.tgz PackageFileSize: 4.569 MiB