Package: DropletUtils Version: 1.30.0 Command: /home/biocbuild/R/R/bin/R CMD INSTALL DropletUtils StartedAt: 2025-11-10 21:44:49 -0000 (Mon, 10 Nov 2025) EndedAt: 2025-11-10 21:46:57 -0000 (Mon, 10 Nov 2025) EllapsedTime: 128.4 seconds RetCode: 0 Status: OK