Package: DropletUtils Version: 1.30.0 Command: /home/biocbuild/R/R/bin/R CMD build --keep-empty-dirs --no-resave-data DropletUtils StartedAt: 2025-11-11 01:19:08 -0000 (Tue, 11 Nov 2025) EndedAt: 2025-11-11 01:21:32 -0000 (Tue, 11 Nov 2025) EllapsedTime: 144.0 seconds RetCode: 0 Status: OK PackageFile: DropletUtils_1.30.0.tar.gz PackageFileSize: 477.4 KiB