Package: DropletUtils Version: 1.30.0 Command: /home/biocbuild/bbs-3.22-bioc/R/bin/R CMD INSTALL DropletUtils StartedAt: 2025-11-11 15:40:06 -0500 (Tue, 11 Nov 2025) EndedAt: 2025-11-11 15:41:35 -0500 (Tue, 11 Nov 2025) EllapsedTime: 89.5 seconds RetCode: 0 Status: OK