Package: DropletUtils Version: 1.28.1 Command: /Library/Frameworks/R.framework/Resources/bin/R CMD INSTALL DropletUtils StartedAt: 2025-10-13 16:05:13 -0400 (Mon, 13 Oct 2025) EndedAt: 2025-10-13 16:07:29 -0400 (Mon, 13 Oct 2025) EllapsedTime: 135.6 seconds RetCode: 0 Status: OK