Package: DropletUtils Version: 1.28.1 Command: rm -rf DropletUtils.buildbin-libdir && mkdir DropletUtils.buildbin-libdir && /Users/biocbuild/BBS/utils/build-universal.sh DropletUtils_1.28.1.tar.gz /Library/Frameworks/R.framework/Resources/bin/R DropletUtils.buildbin-libdir StartedAt: 2025-10-14 13:19:54 -0400 (Tue, 14 Oct 2025) EndedAt: 2025-10-14 13:23:06 -0400 (Tue, 14 Oct 2025) EllapsedTime: 191.9 seconds RetCode: 0 Status: OK PackageFile: DropletUtils_1.28.1.tgz PackageFileSize: 2.351 MiB