Package: DropletUtils Version: 1.28.1 Command: /home/biocbuild/R/R/bin/R CMD INSTALL DropletUtils StartedAt: 2025-09-25 20:52:11 -0000 (Thu, 25 Sep 2025) EndedAt: 2025-09-25 20:53:53 -0000 (Thu, 25 Sep 2025) EllapsedTime: 102.3 seconds RetCode: 0 Status: OK