Package: DriverNet Version: 1.50.0 Command: /home/biocbuild/R/R/bin/R CMD INSTALL DriverNet StartedAt: 2025-11-10 21:05:37 -0000 (Mon, 10 Nov 2025) EndedAt: 2025-11-10 21:06:13 -0000 (Mon, 10 Nov 2025) EllapsedTime: 36.5 seconds RetCode: 0 Status: OK