Package: DriverNet Version: 1.50.0 Command: /home/biocbuild/R/R/bin/R CMD build --keep-empty-dirs --no-resave-data DriverNet StartedAt: 2025-11-11 01:19:00 -0000 (Tue, 11 Nov 2025) EndedAt: 2025-11-11 01:19:33 -0000 (Tue, 11 Nov 2025) EllapsedTime: 33.0 seconds RetCode: 0 Status: OK PackageFile: DriverNet_1.50.0.tar.gz PackageFileSize: 1.109 MiB