Package: DriverNet Version: 1.50.0 Command: /home/biocbuild/bbs-3.22-bioc/R/bin/R CMD INSTALL DriverNet StartedAt: 2025-11-11 15:08:19 -0500 (Tue, 11 Nov 2025) EndedAt: 2025-11-11 15:08:37 -0500 (Tue, 11 Nov 2025) EllapsedTime: 18.8 seconds RetCode: 0 Status: OK