Package: DriverNet Version: 1.50.0 Command: /home/biocbuild/bbs-3.22-bioc/R/bin/R CMD check --install=check:DriverNet.install-out.txt --library=/home/biocbuild/bbs-3.22-bioc/R/site-library --timings DriverNet_1.50.0.tar.gz StartedAt: 2025-11-13 23:19:55 -0500 (Thu, 13 Nov 2025) EndedAt: 2025-11-13 23:21:46 -0500 (Thu, 13 Nov 2025) EllapsedTime: 110.1 seconds RetCode: 0 Status: OK CheckDir: DriverNet.Rcheck Warnings: 0