Package: Doscheda Version: 1.32.0 Command: /home/biocbuild/bbs-3.22-bioc/R/bin/R CMD INSTALL Doscheda StartedAt: 2025-11-11 15:17:51 -0500 (Tue, 11 Nov 2025) EndedAt: 2025-11-11 15:18:05 -0500 (Tue, 11 Nov 2025) EllapsedTime: 14.5 seconds RetCode: 0 Status: OK