Package: Doscheda Version: 1.32.0 Command: /home/biocbuild/bbs-3.22-bioc/R/bin/R CMD build --keep-empty-dirs --no-resave-data --md5 Doscheda StartedAt: 2025-11-11 17:28:27 -0500 (Tue, 11 Nov 2025) EndedAt: 2025-11-11 17:29:11 -0500 (Tue, 11 Nov 2025) EllapsedTime: 44.0 seconds RetCode: 0 Status: OK PackageFile: Doscheda_1.32.0.tar.gz PackageFileSize: 3.786 MiB