Package: Doscheda Version: 1.32.0 Command: /Library/Frameworks/R.framework/Resources/bin/R CMD INSTALL Doscheda StartedAt: 2025-11-10 15:07:35 -0500 (Mon, 10 Nov 2025) EndedAt: 2025-11-10 15:07:41 -0500 (Mon, 10 Nov 2025) EllapsedTime: 5.9 seconds RetCode: 0 Status: OK