Package: Doscheda Version: 1.32.0 Command: /Library/Frameworks/R.framework/Resources/bin/R CMD build --keep-empty-dirs --no-resave-data Doscheda StartedAt: 2025-11-10 16:15:39 -0500 (Mon, 10 Nov 2025) EndedAt: 2025-11-10 16:16:06 -0500 (Mon, 10 Nov 2025) EllapsedTime: 26.3 seconds RetCode: 0 Status: OK PackageFile: Doscheda_1.32.0.tar.gz PackageFileSize: 3.853 MiB