Package: Doscheda Version: 1.32.0 Command: rm -rf Doscheda.buildbin-libdir && mkdir Doscheda.buildbin-libdir && /Users/biocbuild/BBS/utils/build-universal.sh Doscheda_1.32.0.tar.gz /Library/Frameworks/R.framework/Resources/bin/R Doscheda.buildbin-libdir StartedAt: 2025-11-10 23:18:30 -0500 (Mon, 10 Nov 2025) EndedAt: 2025-11-10 23:18:38 -0500 (Mon, 10 Nov 2025) EllapsedTime: 7.1 seconds RetCode: 0 Status: OK PackageFile: Doscheda_1.32.0.tgz PackageFileSize: 4.537 MiB