Package: DominoEffect Version: 1.30.0 Command: /Library/Frameworks/R.framework/Resources/bin/R CMD INSTALL DominoEffect StartedAt: 2025-10-31 15:29:50 -0400 (Fri, 31 Oct 2025) EndedAt: 2025-10-31 15:30:08 -0400 (Fri, 31 Oct 2025) EllapsedTime: 17.5 seconds RetCode: 0 Status: OK