Package: DominoEffect Version: 1.30.0 Command: /Library/Frameworks/R.framework/Resources/bin/R CMD build --keep-empty-dirs --no-resave-data DominoEffect StartedAt: 2025-10-31 16:18:51 -0400 (Fri, 31 Oct 2025) EndedAt: 2025-10-31 16:19:29 -0400 (Fri, 31 Oct 2025) EllapsedTime: 38.4 seconds RetCode: 0 Status: OK PackageFile: DominoEffect_1.30.0.tar.gz PackageFileSize: 473.3 KiB