Package: DominoEffect Version: 1.30.0 Command: rm -rf DominoEffect.buildbin-libdir && mkdir DominoEffect.buildbin-libdir && /Users/biocbuild/BBS/utils/build-universal.sh DominoEffect_1.30.0.tar.gz /Library/Frameworks/R.framework/Resources/bin/R DominoEffect.buildbin-libdir StartedAt: 2025-10-31 23:05:23 -0400 (Fri, 31 Oct 2025) EndedAt: 2025-10-31 23:05:41 -0400 (Fri, 31 Oct 2025) EllapsedTime: 18.5 seconds RetCode: 0 Status: OK PackageFile: DominoEffect_1.30.0.tgz PackageFileSize: 548.3 KiB