Package: DiscoRhythm Version: 1.26.0 Command: /home/biocbuild/bbs-3.22-bioc/R/bin/R CMD INSTALL DiscoRhythm StartedAt: 2025-11-11 15:21:39 -0500 (Tue, 11 Nov 2025) EndedAt: 2025-11-11 15:22:05 -0500 (Tue, 11 Nov 2025) EllapsedTime: 25.8 seconds RetCode: 0 Status: OK